BEGIN:VCALENDAR
VERSION:2.0
CALSCALE:GREGORIAN
PRODID:-//WordPress//RSVPMaker//EN
METHOD:REQUEST
BEGIN:VEVENT
DTSTAMP:20260424T233003Z
UID:C24F4C5EEF7EC01C46E003A9296C8645@rsvpmaker.com
SEQUENCE:0
STATUS:CONFIRMED
DTSTART:20241114T170000Z
DTEND:20241114T180000Z
LOCATION:See\: https\://www.uupsbu.org/rsvpmaker/know-your-rights-work
 shops-performance-program-performance-evaluations-and-getting-to-perma
 nent-appointment/
SUMMARY:Know Your Rights Workshops - Performance Program, Performance 
 Evaluations and Getting To Permanent Appointment
DESCRIPTION:Event info\: https\://www.uupsbu.org/rsvpmaker/know-your-r
 ights-workshops-performance-program-performance-evaluations-and-gettin
 g-to-permanent-appointment/
END:VEVENT
END:VCALENDAR