BEGIN:VCALENDAR
VERSION:2.0
CALSCALE:GREGORIAN
PRODID:-//WordPress//RSVPMaker//EN
METHOD:REQUEST
BEGIN:VEVENT
DTSTAMP:20260424T185429Z
UID:F80EBFF16CCAA9B48A0224D7C489CEF4@rsvpmaker.com
SEQUENCE:0
STATUS:CONFIRMED
DTSTART:20250313T160000Z
DTEND:20250313T170000Z
LOCATION:See\: https\://www.uupsbu.org/rsvpmaker/know-your-rights-work
 shops-workload/
SUMMARY:Know Your Rights Workshops - Workload
DESCRIPTION:Event info\: https\://www.uupsbu.org/rsvpmaker/know-your-r
 ights-workshops-workload/
END:VEVENT
END:VCALENDAR