BEGIN:VCALENDAR
VERSION:2.0
CALSCALE:GREGORIAN
PRODID:-//WordPress//RSVPMaker//EN
METHOD:REQUEST
BEGIN:VEVENT
DTSTAMP:20260424T051223Z
UID:9D28DE8FF9BB6A3FA41FDDFDC28F3BC1@rsvpmaker.com
SEQUENCE:0
STATUS:CONFIRMED
DTSTART:20181016T160000Z
DTEND:20181016T170000Z
LOCATION:See\: https\://www.uupsbu.org/rsvpmaker/know-your-union-2018-
 10-16/
SUMMARY:"Know your Union" Workshop
DESCRIPTION:Event info\: https\://www.uupsbu.org/rsvpmaker/know-your-u
 nion-2018-10-16/
END:VEVENT
END:VCALENDAR