BEGIN:VCALENDAR
VERSION:2.0
CALSCALE:GREGORIAN
PRODID:-//WordPress//RSVPMaker//EN
METHOD:REQUEST
BEGIN:VEVENT
DTSTAMP:20260425T022428Z
UID:B2F627FFF19FDA463CB386442EAC2B3D@rsvpmaker.com
SEQUENCE:0
STATUS:CONFIRMED
DTSTART:20160905T160000Z
DTEND:20160905T170000Z
LOCATION:See\: https\://www.uupsbu.org/rsvpmaker/labor-day-2016-9-5/
SUMMARY:Labor Day
DESCRIPTION:Event info\: https\://www.uupsbu.org/rsvpmaker/labor-day-2
 016-9-5/
END:VEVENT
END:VCALENDAR