BEGIN:VCALENDAR
VERSION:2.0
CALSCALE:GREGORIAN
PRODID:-//WordPress//RSVPMaker//EN
METHOD:REQUEST
BEGIN:VEVENT
DTSTAMP:20260424T080231Z
UID:851DDF5058CF22DF63D3344AD89919CF@rsvpmaker.com
SEQUENCE:0
STATUS:CONFIRMED
DTSTART:20170904T160000Z
DTEND:20170904T170000Z
LOCATION:See\: https\://www.uupsbu.org/rsvpmaker/labor-day-2017-9-4/
SUMMARY:Labor Day
DESCRIPTION:Event info\: https\://www.uupsbu.org/rsvpmaker/labor-day-2
 017-9-4/
END:VEVENT
END:VCALENDAR