BEGIN:VCALENDAR
VERSION:2.0
CALSCALE:GREGORIAN
PRODID:-//WordPress//RSVPMaker//EN
METHOD:REQUEST
BEGIN:VEVENT
DTSTAMP:20260425T222335Z
UID:B937384A573B94C4D7CC6004C496F919@rsvpmaker.com
SEQUENCE:0
STATUS:CONFIRMED
DTSTART:20230904T040000Z
DTEND:20230904T050000Z
LOCATION:See\: https\://www.uupsbu.org/rsvpmaker/labor-day/
SUMMARY:Labor Day
DESCRIPTION:Event info\: https\://www.uupsbu.org/rsvpmaker/labor-day/
END:VEVENT
END:VCALENDAR