BEGIN:VCALENDAR
VERSION:2.0
CALSCALE:GREGORIAN
PRODID:-//WordPress//RSVPMaker//EN
METHOD:REQUEST
BEGIN:VEVENT
DTSTAMP:20260425T142151Z
UID:DFCCDB8B1CC7E4DAB6D33DB0FEF12B88@rsvpmaker.com
SEQUENCE:0
STATUS:CONFIRMED
DTSTART:20240213T170000Z
DTEND:20240213T180000Z
LOCATION:See\: https\://www.uupsbu.org/rsvpmaker/love-your-benefits-uu
 ps-know-your-negotiated-benefits-webinar/
SUMMARY:“Love Your Benefits “ UUP’s Know Your Negotiated Benefit
 s webinar
DESCRIPTION:Event info\: https\://www.uupsbu.org/rsvpmaker/love-your-b
 enefits-uups-know-your-negotiated-benefits-webinar/
END:VEVENT
END:VCALENDAR