BEGIN:VCALENDAR
VERSION:2.0
CALSCALE:GREGORIAN
PRODID:-//WordPress//RSVPMaker//EN
METHOD:REQUEST
BEGIN:VEVENT
DTSTAMP:20260425T205330Z
UID:AE3F4C649FB55C2EE3EF4D1ABDB79CE5@rsvpmaker.com
SEQUENCE:0
STATUS:CONFIRMED
DTSTART:20231018T160000Z
DTEND:20231018T180000Z
LOCATION:See\: https\://www.uupsbu.org/rsvpmaker/managing-change-super
 visory-workshop-an-ombuds-workshop/
SUMMARY:MANAGING CHANGE - SUPERVISORY WORKSHOP: An Ombuds Workshop
DESCRIPTION:Event info\: https\://www.uupsbu.org/rsvpmaker/managing-ch
 ange-supervisory-workshop-an-ombuds-workshop/
END:VEVENT
END:VCALENDAR