BEGIN:VCALENDAR
VERSION:2.0
CALSCALE:GREGORIAN
PRODID:-//WordPress//RSVPMaker//EN
METHOD:REQUEST
BEGIN:VEVENT
DTSTAMP:20260424T140421Z
UID:7C590F01490190DB0ED02A5070E20F01@rsvpmaker.com
SEQUENCE:0
STATUS:CONFIRMED
DTSTART:20170501T160000Z
DTEND:20170501T170000Z
LOCATION:See\: https\://www.uupsbu.org/rsvpmaker/managing-stress-with-
 mindful-meditation-2017-05-01/
SUMMARY:De-stress in a stress-filled environment
DESCRIPTION:Event info\: https\://www.uupsbu.org/rsvpmaker/managing-st
 ress-with-mindful-meditation-2017-05-01/
END:VEVENT
END:VCALENDAR