BEGIN:VCALENDAR
VERSION:2.0
CALSCALE:GREGORIAN
PRODID:-//WordPress//RSVPMaker//EN
METHOD:REQUEST
BEGIN:VEVENT
DTSTAMP:20260424T201413Z
UID:00AC8ED3B4327BDD4EBBEBCB2BA10A00@rsvpmaker.com
SEQUENCE:0
STATUS:CONFIRMED
DTSTART:20170116T170000Z
DTEND:20170116T180000Z
LOCATION:See\: https\://www.uupsbu.org/rsvpmaker/martin-luther-king-jr
 -day-2017-1-16/
SUMMARY:Martin Luther King, Jr. Day
DESCRIPTION:Event info\: https\://www.uupsbu.org/rsvpmaker/martin-luth
 er-king-jr-day-2017-1-16/
END:VEVENT
END:VCALENDAR