BEGIN:VCALENDAR
VERSION:2.0
CALSCALE:GREGORIAN
PRODID:-//WordPress//RSVPMaker//EN
METHOD:REQUEST
BEGIN:VEVENT
DTSTAMP:20260425T103855Z
UID:B6AF2C9703F203A2794BE03D443AF2E3@rsvpmaker.com
SEQUENCE:0
STATUS:CONFIRMED
DTSTART:20240515T160000Z
DTEND:20240515T170000Z
LOCATION:See\: https\://www.uupsbu.org/rsvpmaker/may-2024-know-your-be
 nefits/
SUMMARY:May 2024 Know Your Benefits
DESCRIPTION:Event info\: https\://www.uupsbu.org/rsvpmaker/may-2024-kn
 ow-your-benefits/
END:VEVENT
END:VCALENDAR