BEGIN:VCALENDAR
VERSION:2.0
CALSCALE:GREGORIAN
PRODID:-//WordPress//RSVPMaker//EN
METHOD:REQUEST
BEGIN:VEVENT
DTSTAMP:20260424T080625Z
UID:F291E10EC3263BD7724556D62E70E25D@rsvpmaker.com
SEQUENCE:0
STATUS:CONFIRMED
DTSTART:20190107T210000Z
DTEND:20190107T220000Z
LOCATION:See\: https\://www.uupsbu.org/rsvpmaker/member-meet-up-2020-1
 -7/
SUMMARY:CANCELLED-Member Meet Up
DESCRIPTION:Event info\: https\://www.uupsbu.org/rsvpmaker/member-meet
 -up-2020-1-7/
END:VEVENT
END:VCALENDAR