BEGIN:VCALENDAR
VERSION:2.0
CALSCALE:GREGORIAN
PRODID:-//WordPress//RSVPMaker//EN
METHOD:REQUEST
BEGIN:VEVENT
DTSTAMP:20260425T174119Z
UID:CA3A856A28DF7D77D948949206FF9FDF@rsvpmaker.com
SEQUENCE:0
STATUS:CONFIRMED
DTSTART:20231220T163000Z
DTEND:20231220T180000Z
LOCATION:See\: https\://www.uupsbu.org/rsvpmaker/members-only-public-s
 ervice-loan-forgiveness-pslf-clinic-2-zoom-only/
SUMMARY:Members Only Public Service Loan Forgiveness (PSLF) Clinic 2 (
 zoom only)
DESCRIPTION:Event info\: https\://www.uupsbu.org/rsvpmaker/members-onl
 y-public-service-loan-forgiveness-pslf-clinic-2-zoom-only/
END:VEVENT
END:VCALENDAR