BEGIN:VCALENDAR
VERSION:2.0
CALSCALE:GREGORIAN
PRODID:-//WordPress//RSVPMaker//EN
METHOD:REQUEST
BEGIN:VEVENT
DTSTAMP:20260425T160202Z
UID:67FF32D40FB51F1A2FD2C4F1B1019785@rsvpmaker.com
SEQUENCE:0
STATUS:CONFIRMED
DTSTART:20240131T220000Z
DTEND:20240131T233000Z
LOCATION:See\: https\://www.uupsbu.org/rsvpmaker/members-only-public-s
 ervice-loan-forgiveness-pslf-clinics-zoom-only/
SUMMARY:Members Only Public Service Loan Forgiveness (PSLF) Clinics( Z
 oom Only)
DESCRIPTION:Event info\: https\://www.uupsbu.org/rsvpmaker/members-onl
 y-public-service-loan-forgiveness-pslf-clinics-zoom-only/
END:VEVENT
END:VCALENDAR