BEGIN:VCALENDAR
VERSION:2.0
CALSCALE:GREGORIAN
PRODID:-//WordPress//RSVPMaker//EN
METHOD:REQUEST
BEGIN:VEVENT
DTSTAMP:20260425T165639Z
UID:CD00692C3BFE59267D5ECFAC5310286C@rsvpmaker.com
SEQUENCE:0
STATUS:CONFIRMED
DTSTART:20151202T133000Z
DTEND:20151202T143000Z
LOCATION:See\: https\://www.uupsbu.org/rsvpmaker/membership-breakfast-
 2015-12-2/
SUMMARY:Membership Breakfast
DESCRIPTION:Event info\: https\://www.uupsbu.org/rsvpmaker/membership-
 breakfast-2015-12-2/
END:VEVENT
END:VCALENDAR