BEGIN:VCALENDAR
VERSION:2.0
CALSCALE:GREGORIAN
PRODID:-//WordPress//RSVPMaker//EN
METHOD:REQUEST
BEGIN:VEVENT
DTSTAMP:20260425T191938Z
UID:2B8501AF7B64D1AAAE7DD832805F0709@rsvpmaker.com
SEQUENCE:0
STATUS:CONFIRMED
DTSTART:20231211T160000Z
DTEND:20231211T170000Z
LOCATION:See\: https\://www.uupsbu.org/rsvpmaker/membership-committee-
 meeting-zoom-only-2/
SUMMARY:Membership Committee Meeting (zoom only)
DESCRIPTION:Event info\: https\://www.uupsbu.org/rsvpmaker/membership-
 committee-meeting-zoom-only-2/
END:VEVENT
END:VCALENDAR