BEGIN:VCALENDAR
VERSION:2.0
CALSCALE:GREGORIAN
PRODID:-//WordPress//RSVPMaker//EN
METHOD:REQUEST
BEGIN:VEVENT
DTSTAMP:20260425T205519Z
UID:4D1A65F1C6D24C1F8F714FE7E31D29FC@rsvpmaker.com
SEQUENCE:0
STATUS:CONFIRMED
DTSTART:20231113T160000Z
DTEND:20231113T170000Z
LOCATION:See\: https\://www.uupsbu.org/rsvpmaker/membership-committee-
 meeting-zoom-only/
SUMMARY:Membership Committee Meeting (zoom only)
DESCRIPTION:Event info\: https\://www.uupsbu.org/rsvpmaker/membership-
 committee-meeting-zoom-only/
END:VEVENT
END:VCALENDAR