BEGIN:VCALENDAR
VERSION:2.0
CALSCALE:GREGORIAN
PRODID:-//WordPress//RSVPMaker//EN
METHOD:REQUEST
BEGIN:VEVENT
DTSTAMP:20260425T205458Z
UID:A6B964C0BB675116A15EF1325B01FF45@rsvpmaker.com
SEQUENCE:0
STATUS:CONFIRMED
DTSTART:20231016T150000Z
DTEND:20231016T160000Z
LOCATION:See\: https\://www.uupsbu.org/rsvpmaker/membership-committee-
 meeting/
SUMMARY:Membership Committee Meeting (zoom only)
DESCRIPTION:Event info\: https\://www.uupsbu.org/rsvpmaker/membership-
 committee-meeting/
END:VEVENT
END:VCALENDAR