BEGIN:VCALENDAR
VERSION:2.0
CALSCALE:GREGORIAN
PRODID:-//WordPress//RSVPMaker//EN
METHOD:REQUEST
BEGIN:VEVENT
DTSTAMP:20260424T044319Z
UID:98311AB43A6B6E6C94A0D30E0F02F3CE@rsvpmaker.com
SEQUENCE:0
STATUS:CONFIRMED
DTSTART:20230405T160000Z
DTEND:20230405T170000Z
LOCATION:See\: https\://www.uupsbu.org/rsvpmaker/membership-meeting-10
 /
SUMMARY:Membership Meeting
DESCRIPTION:Event info\: https\://www.uupsbu.org/rsvpmaker/membership-
 meeting-10/
END:VEVENT
END:VCALENDAR