BEGIN:VCALENDAR
VERSION:2.0
CALSCALE:GREGORIAN
PRODID:-//WordPress//RSVPMaker//EN
METHOD:REQUEST
BEGIN:VEVENT
DTSTAMP:20260425T222723Z
UID:FDD5B16FC8134339089EF25B3CF0E588@rsvpmaker.com
SEQUENCE:0
STATUS:CONFIRMED
DTSTART:20231011T160000Z
DTEND:20231011T170000Z
LOCATION:See\: https\://www.uupsbu.org/rsvpmaker/membership-meeting-11
 /
SUMMARY:Membership Meeting (hybrid)
DESCRIPTION:Event info\: https\://www.uupsbu.org/rsvpmaker/membership-
 meeting-11/
END:VEVENT
END:VCALENDAR