BEGIN:VCALENDAR
VERSION:2.0
CALSCALE:GREGORIAN
PRODID:-//WordPress//RSVPMaker//EN
METHOD:REQUEST
BEGIN:VEVENT
DTSTAMP:20260425T104428Z
UID:0C95054981DE037DE06E544A52EB3613@rsvpmaker.com
SEQUENCE:0
STATUS:CONFIRMED
DTSTART:20240506T160000Z
DTEND:20240506T170000Z
LOCATION:See\: https\://www.uupsbu.org/rsvpmaker/membership-meeting-12
 /
SUMMARY:Membership Meeting
DESCRIPTION:Event info\: https\://www.uupsbu.org/rsvpmaker/membership-
 meeting-12/
END:VEVENT
END:VCALENDAR