BEGIN:VCALENDAR
VERSION:2.0
CALSCALE:GREGORIAN
PRODID:-//WordPress//RSVPMaker//EN
METHOD:REQUEST
BEGIN:VEVENT
DTSTAMP:20260425T004437Z
UID:DACA41214B39C5DC66674D09081940F0@rsvpmaker.com
SEQUENCE:0
STATUS:CONFIRMED
DTSTART:20161019T160000Z
DTEND:20161019T170000Z
LOCATION:See\: https\://www.uupsbu.org/rsvpmaker/membership-meeting-20
 16-10-19/
SUMMARY:Membership Meeting
DESCRIPTION:Event info\: https\://www.uupsbu.org/rsvpmaker/membership-
 meeting-2016-10-19/
END:VEVENT
END:VCALENDAR