BEGIN:VCALENDAR
VERSION:2.0
CALSCALE:GREGORIAN
PRODID:-//WordPress//RSVPMaker//EN
METHOD:REQUEST
BEGIN:VEVENT
DTSTAMP:20260424T170816Z
UID:B2EEB7362EF83DEFF5C7813A67E14F0A@rsvpmaker.com
SEQUENCE:0
STATUS:CONFIRMED
DTSTART:20170309T170000Z
DTEND:20170309T180000Z
LOCATION:See\: https\://www.uupsbu.org/rsvpmaker/membership-meeting-20
 17-03-09/
SUMMARY:Membership Meeting
DESCRIPTION:Event info\: https\://www.uupsbu.org/rsvpmaker/membership-
 meeting-2017-03-09/
END:VEVENT
END:VCALENDAR