BEGIN:VCALENDAR
VERSION:2.0
CALSCALE:GREGORIAN
PRODID:-//WordPress//RSVPMaker//EN
METHOD:REQUEST
BEGIN:VEVENT
DTSTAMP:20260424T110429Z
UID:1680829293F2A8541EFA2647A0290F88@rsvpmaker.com
SEQUENCE:0
STATUS:CONFIRMED
DTSTART:20190313T160000Z
DTEND:20190313T170000Z
LOCATION:See\: https\://www.uupsbu.org/rsvpmaker/membership-meeting-20
 18-03-13/
SUMMARY:Membership Meeting
DESCRIPTION:Event info\: https\://www.uupsbu.org/rsvpmaker/membership-
 meeting-2018-03-13/
END:VEVENT
END:VCALENDAR