BEGIN:VCALENDAR
VERSION:2.0
CALSCALE:GREGORIAN
PRODID:-//WordPress//RSVPMaker//EN
METHOD:REQUEST
BEGIN:VEVENT
DTSTAMP:20260424T140653Z
UID:2288F691B58EDECADCC9A8691762B4FD@rsvpmaker.com
SEQUENCE:0
STATUS:CONFIRMED
DTSTART:20190508T160000Z
DTEND:20190508T170000Z
LOCATION:See\: https\://www.uupsbu.org/rsvpmaker/membership-meeting-20
 18-05-08/
SUMMARY:CANCELLED - Membership Meeting
DESCRIPTION:Event info\: https\://www.uupsbu.org/rsvpmaker/membership-
 meeting-2018-05-08/
END:VEVENT
END:VCALENDAR