BEGIN:VCALENDAR
VERSION:2.0
CALSCALE:GREGORIAN
PRODID:-//WordPress//RSVPMaker//EN
METHOD:REQUEST
BEGIN:VEVENT
DTSTAMP:20260424T022517Z
UID:3DE568F8597B94BDA53149C7D7F5958C@rsvpmaker.com
SEQUENCE:0
STATUS:CONFIRMED
DTSTART:20180925T160000Z
DTEND:20180925T170000Z
LOCATION:See\: https\://www.uupsbu.org/rsvpmaker/membership-meeting-20
 18-09-25/
SUMMARY:Membership Meeting
DESCRIPTION:Event info\: https\://www.uupsbu.org/rsvpmaker/membership-
 meeting-2018-09-25/
END:VEVENT
END:VCALENDAR