BEGIN:VCALENDAR
VERSION:2.0
CALSCALE:GREGORIAN
PRODID:-//WordPress//RSVPMaker//EN
METHOD:REQUEST
BEGIN:VEVENT
DTSTAMP:20260424T044319Z
UID:0D7F9017FBDA691900187B22404B8A1F@rsvpmaker.com
SEQUENCE:0
STATUS:CONFIRMED
DTSTART:20230207T170000Z
DTEND:20230207T180000Z
LOCATION:See\: https\://www.uupsbu.org/rsvpmaker/membership-meeting-9/
SUMMARY:Membership Meeting
DESCRIPTION:Event info\: https\://www.uupsbu.org/rsvpmaker/membership-
 meeting-9/
END:VEVENT
END:VCALENDAR