BEGIN:VCALENDAR
VERSION:2.0
CALSCALE:GREGORIAN
PRODID:-//WordPress//RSVPMaker//EN
METHOD:REQUEST
BEGIN:VEVENT
DTSTAMP:20260424T140739Z
UID:72B386224056BF940CD5B01341F65E9D@rsvpmaker.com
SEQUENCE:0
STATUS:CONFIRMED
DTSTART:20190514T160000Z
DTEND:20190514T170000Z
LOCATION:See\: https\://www.uupsbu.org/rsvpmaker/membership-meeting-sp
 ring-fling-2019-5-14/
SUMMARY:Membership Meeting "Spring Fling"
DESCRIPTION:Event info\: https\://www.uupsbu.org/rsvpmaker/membership-
 meeting-spring-fling-2019-5-14/
END:VEVENT
END:VCALENDAR