BEGIN:VCALENDAR
VERSION:2.0
CALSCALE:GREGORIAN
PRODID:-//WordPress//RSVPMaker//EN
METHOD:REQUEST
BEGIN:VEVENT
DTSTAMP:20260424T140615Z
UID:F76A89F0CB91BC419542CE9FA43902DC@rsvpmaker.com
SEQUENCE:0
STATUS:CONFIRMED
DTSTART:20170529T160000Z
DTEND:20170529T170000Z
LOCATION:See\: https\://www.uupsbu.org/rsvpmaker/memorial-day-2017-5-2
 9/
SUMMARY:Memorial Day
DESCRIPTION:Event info\: https\://www.uupsbu.org/rsvpmaker/memorial-da
 y-2017-5-29/
END:VEVENT
END:VCALENDAR