BEGIN:VCALENDAR
VERSION:2.0
CALSCALE:GREGORIAN
PRODID:-//WordPress//RSVPMaker//EN
METHOD:REQUEST
BEGIN:VEVENT
DTSTAMP:20260425T003937Z
UID:BE3159AD04564BFB90DB9E32851EBF9C@rsvpmaker.com
SEQUENCE:0
STATUS:CONFIRMED
DTSTART:20161026T160000Z
DTEND:20161026T170000Z
LOCATION:See\: https\://www.uupsbu.org/rsvpmaker/microaggressions-work
 shop-2016-10-26/
SUMMARY:Microaggressions Workshop
DESCRIPTION:Event info\: https\://www.uupsbu.org/rsvpmaker/microaggres
 sions-workshop-2016-10-26/
END:VEVENT
END:VCALENDAR