BEGIN:VCALENDAR
VERSION:2.0
CALSCALE:GREGORIAN
PRODID:-//WordPress//RSVPMaker//EN
METHOD:REQUEST
BEGIN:VEVENT
DTSTAMP:20260424T080503Z
UID:043C3D7E489C69B48737CC0C92D0F3A2@rsvpmaker.com
SEQUENCE:0
STATUS:CONFIRMED
DTSTART:20170921T160000Z
DTEND:20170921T170000Z
LOCATION:See\: https\://www.uupsbu.org/rsvpmaker/mindful-eating-2017-0
 9-21/
SUMMARY:Mindful Eating
DESCRIPTION:Event info\: https\://www.uupsbu.org/rsvpmaker/mindful-eat
 ing-2017-09-21/
END:VEVENT
END:VCALENDAR