BEGIN:VCALENDAR
VERSION:2.0
CALSCALE:GREGORIAN
PRODID:-//WordPress//RSVPMaker//EN
METHOD:REQUEST
BEGIN:VEVENT
DTSTAMP:20260424T063359Z
UID:148260A1CE4FE4907DF4CD475C442E28@rsvpmaker.com
SEQUENCE:0
STATUS:CONFIRMED
DTSTART:20181119T170000Z
DTEND:20181119T180000Z
LOCATION:See\: https\://www.uupsbu.org/rsvpmaker/narcan-awareness-trai
 ning-workshop-2018-11-19/
SUMMARY:NARCAN Awareness & Training Workshop
DESCRIPTION:Event info\: https\://www.uupsbu.org/rsvpmaker/narcan-awar
 eness-training-workshop-2018-11-19/
END:VEVENT
END:VCALENDAR