BEGIN:VCALENDAR
VERSION:2.0
CALSCALE:GREGORIAN
PRODID:-//WordPress//RSVPMaker//EN
METHOD:REQUEST
BEGIN:VEVENT
DTSTAMP:20260423T234642Z
UID:6351BF9DCE654515BF1DDBD6426DFA97@rsvpmaker.com
SEQUENCE:0
STATUS:CONFIRMED
DTSTART:20180718T190000Z
DTEND:20180718T200000Z
LOCATION:See\: https\://www.uupsbu.org/rsvpmaker/negotiations-discussi
 on-2018-07-18/
SUMMARY:Negotiations Discussion
DESCRIPTION:Event info\: https\://www.uupsbu.org/rsvpmaker/negotiation
 s-discussion-2018-07-18/
END:VEVENT
END:VCALENDAR