BEGIN:VCALENDAR
VERSION:2.0
CALSCALE:GREGORIAN
PRODID:-//WordPress//RSVPMaker//EN
METHOD:REQUEST
BEGIN:VEVENT
DTSTAMP:20260424T080425Z
UID:7467FC45E24EC8D8B9023385C2A6066D@rsvpmaker.com
SEQUENCE:0
STATUS:CONFIRMED
DTSTART:20250909T160000Z
DTEND:20250909T170000Z
LOCATION:See\: https\://www.uupsbu.org/rsvpmaker/negotiations-listenin
 g-tour/
SUMMARY:Negotiations Listening Tour
DESCRIPTION:Event info\: https\://www.uupsbu.org/rsvpmaker/negotiation
 s-listening-tour/
END:VEVENT
END:VCALENDAR