BEGIN:VCALENDAR
VERSION:2.0
CALSCALE:GREGORIAN
PRODID:-//WordPress//RSVPMaker//EN
METHOD:REQUEST
BEGIN:VEVENT
DTSTAMP:20260424T201326Z
UID:D7A728A67D909E714C0774E22CB806F2@rsvpmaker.com
SEQUENCE:0
STATUS:CONFIRMED
DTSTART:20170101T170000Z
DTEND:20170101T180000Z
LOCATION:See\: https\://www.uupsbu.org/rsvpmaker/new-years-day-2017-1-
 1/
SUMMARY:New Year's Day
DESCRIPTION:Event info\: https\://www.uupsbu.org/rsvpmaker/new-years-d
 ay-2017-1-1/
END:VEVENT
END:VCALENDAR