BEGIN:VCALENDAR
VERSION:2.0
CALSCALE:GREGORIAN
PRODID:-//WordPress//RSVPMaker//EN
METHOD:REQUEST
BEGIN:VEVENT
DTSTAMP:20260425T191816Z
UID:9C4E6233C6D5FF637E7984152A3531D5@rsvpmaker.com
SEQUENCE:0
STATUS:CONFIRMED
DTSTART:20231117T220000Z
DTEND:20231118T000000Z
LOCATION:See\: https\://www.uupsbu.org/rsvpmaker/november-happy-hour-2
 /
SUMMARY:November Happy Hour (In-person only)
DESCRIPTION:Event info\: https\://www.uupsbu.org/rsvpmaker/november-ha
 ppy-hour-2/
END:VEVENT
END:VCALENDAR