BEGIN:VCALENDAR
VERSION:2.0
CALSCALE:GREGORIAN
PRODID:-//WordPress//RSVPMaker//EN
METHOD:REQUEST
BEGIN:VEVENT
DTSTAMP:20260423T234028Z
UID:C87579E7369697E409F6D7767838CED5@rsvpmaker.com
SEQUENCE:0
STATUS:CONFIRMED
DTSTART:20260319T160000Z
DTEND:20260319T170000Z
LOCATION:See\: https\://www.uupsbu.org/rsvpmaker/nysut-affiliate-benef
 its/
SUMMARY:NYSUT Affiliate Benefits
DESCRIPTION:Event info\: https\://www.uupsbu.org/rsvpmaker/nysut-affil
 iate-benefits/
END:VEVENT
END:VCALENDAR