BEGIN:VCALENDAR
VERSION:2.0
CALSCALE:GREGORIAN
PRODID:-//WordPress//RSVPMaker//EN
METHOD:REQUEST
BEGIN:VEVENT
DTSTAMP:20260425T104504Z
UID:D07E70EFCFAB08731A97E7B91BE644DE@rsvpmaker.com
SEQUENCE:0
STATUS:CONFIRMED
DTSTART:20160408T160000Z
DTEND:20160408T170000Z
LOCATION:See\: https\://www.uupsbu.org/rsvpmaker/nysut-representative-
 assembly-2016-4-8/
SUMMARY:NYSUT Representative Assembly
DESCRIPTION:Event info\: https\://www.uupsbu.org/rsvpmaker/nysut-repre
 sentative-assembly-2016-4-8/
END:VEVENT
END:VCALENDAR