BEGIN:VCALENDAR
VERSION:2.0
CALSCALE:GREGORIAN
PRODID:-//WordPress//RSVPMaker//EN
METHOD:REQUEST
BEGIN:VEVENT
DTSTAMP:20260425T222851Z
UID:1E669A61FB93F9EEA7EDF5CD3E3D4BCC@rsvpmaker.com
SEQUENCE:0
STATUS:CONFIRMED
DTSTART:20231023T210000Z
DTEND:20231023T230000Z
LOCATION:See\: https\://www.uupsbu.org/rsvpmaker/october-happy-hour/
SUMMARY:October Happy Hour (in-person only)
DESCRIPTION:Event info\: https\://www.uupsbu.org/rsvpmaker/october-hap
 py-hour/
END:VEVENT
END:VCALENDAR