BEGIN:VCALENDAR
VERSION:2.0
CALSCALE:GREGORIAN
PRODID:-//WordPress//RSVPMaker//EN
METHOD:REQUEST
BEGIN:VEVENT
DTSTAMP:20260425T222513Z
UID:260C2432A0EECC28CE03C10DADC078A4@rsvpmaker.com
SEQUENCE:0
STATUS:CONFIRMED
DTSTART:20230925T170000Z
DTEND:20230925T190000Z
LOCATION:See\: https\://www.uupsbu.org/rsvpmaker/ombuds-month-educatio
 nal-workshop-2/
SUMMARY:Ombuds Month Educational Workshop
DESCRIPTION:Event info\: https\://www.uupsbu.org/rsvpmaker/ombuds-mont
 h-educational-workshop-2/
END:VEVENT
END:VCALENDAR