BEGIN:VCALENDAR
VERSION:2.0
CALSCALE:GREGORIAN
PRODID:-//WordPress//RSVPMaker//EN
METHOD:REQUEST
BEGIN:VEVENT
DTSTAMP:20260425T205145Z
UID:47951A40EFC0D2F7DA8FF1ECBFDE80F4@rsvpmaker.com
SEQUENCE:0
STATUS:CONFIRMED
DTSTART:20231012T180000Z
DTEND:20231012T200000Z
LOCATION:See\: https\://www.uupsbu.org/rsvpmaker/ombuds-month-educatio
 nal-workshop/
SUMMARY:Ombuds Month Educational Workshop
DESCRIPTION:Event info\: https\://www.uupsbu.org/rsvpmaker/ombuds-mont
 h-educational-workshop/
END:VEVENT
END:VCALENDAR