BEGIN:VCALENDAR
VERSION:2.0
CALSCALE:GREGORIAN
PRODID:-//WordPress//RSVPMaker//EN
METHOD:REQUEST
BEGIN:VEVENT
DTSTAMP:20260425T104213Z
UID:01F78BE6F7CAD02658508FE4616098A9@rsvpmaker.com
SEQUENCE:0
STATUS:CONFIRMED
DTSTART:20160412T160000Z
DTEND:20160412T170000Z
LOCATION:See\: https\://www.uupsbu.org/rsvpmaker/paying-yourself-first
 -2016-4-12/
SUMMARY:Paying Yourself First
DESCRIPTION:Event info\: https\://www.uupsbu.org/rsvpmaker/paying-your
 self-first-2016-4-12/
END:VEVENT
END:VCALENDAR