BEGIN:VCALENDAR
VERSION:2.0
CALSCALE:GREGORIAN
PRODID:-//WordPress//RSVPMaker//EN
METHOD:REQUEST
BEGIN:VEVENT
DTSTAMP:20260425T160012Z
UID:2F2CD5C753D3CEE48E47DBB5BBAED331@rsvpmaker.com
SEQUENCE:0
STATUS:CONFIRMED
DTSTART:20240119T170000Z
DTEND:20240119T180000Z
LOCATION:See\: https\://www.uupsbu.org/rsvpmaker/perf-management-or-ap
 pt-reappt-for-professionals-workshop-zoom/
SUMMARY:Perf. Management or Appt/Reappt for Professionals Workshop (zo
 om)
DESCRIPTION:Event info\: https\://www.uupsbu.org/rsvpmaker/perf-manage
 ment-or-appt-reappt-for-professionals-workshop-zoom/
END:VEVENT
END:VCALENDAR