BEGIN:VCALENDAR
VERSION:2.0
CALSCALE:GREGORIAN
PRODID:-//WordPress//RSVPMaker//EN
METHOD:REQUEST
BEGIN:VEVENT
DTSTAMP:20260425T173649Z
UID:E43739BBA7CDB577E9E3E4E42447F5A5@rsvpmaker.com
SEQUENCE:0
STATUS:CONFIRMED
DTSTART:20231212T170000Z
DTEND:20231212T180000Z
LOCATION:See\: https\://www.uupsbu.org/rsvpmaker/performance-managemen
 t-or-appointment-re-appt-for-professionals-workshop/
SUMMARY:Performance Management or Appointment/Re-appt for Professional
 s Workshop
DESCRIPTION:Event info\: https\://www.uupsbu.org/rsvpmaker/performance
 -management-or-appointment-re-appt-for-professionals-workshop/
END:VEVENT
END:VCALENDAR