BEGIN:VCALENDAR
VERSION:2.0
CALSCALE:GREGORIAN
PRODID:-//WordPress//RSVPMaker//EN
METHOD:REQUEST
BEGIN:VEVENT
DTSTAMP:20260426T000023Z
UID:38ED4039C0B33E2EC51CC4579405D03E@rsvpmaker.com
SEQUENCE:0
STATUS:CONFIRMED
DTSTART:20230919T160000Z
DTEND:20230919T170000Z
LOCATION:See\: https\://www.uupsbu.org/rsvpmaker/performance-managemen
 t-or-appt-re-appt-for-professionals-workshop/
SUMMARY:Performance Management or Appointment/Re-appt for Professional
 s Workshop
DESCRIPTION:Event info\: https\://www.uupsbu.org/rsvpmaker/performance
 -management-or-appt-re-appt-for-professionals-workshop/
END:VEVENT
END:VCALENDAR