BEGIN:VCALENDAR
VERSION:2.0
CALSCALE:GREGORIAN
PRODID:-//WordPress//RSVPMaker//EN
METHOD:REQUEST
BEGIN:VEVENT
DTSTAMP:20260423T232059Z
UID:827D73770AAF3EA56E4DDBD99F0141F7@rsvpmaker.com
SEQUENCE:0
STATUS:CONFIRMED
DTSTART:20260416T153000Z
DTEND:20260416T163000Z
LOCATION:See\: https\://www.uupsbu.org/rsvpmaker/pizza-power-stop-by-t
 o-slice-sign/
SUMMARY:Pizza + Power: Contract Negotiations Event
DESCRIPTION:Event info\: https\://www.uupsbu.org/rsvpmaker/pizza-power
 -stop-by-to-slice-sign/
END:VEVENT
END:VCALENDAR