BEGIN:VCALENDAR
VERSION:2.0
CALSCALE:GREGORIAN
PRODID:-//WordPress//RSVPMaker//EN
METHOD:REQUEST
BEGIN:VEVENT
DTSTAMP:20260424T105738Z
UID:AEB3135B436AA55373822C010763DD54@rsvpmaker.com
SEQUENCE:0
STATUS:CONFIRMED
DTSTART:20170724T153000Z
DTEND:20170724T163000Z
LOCATION:See\: https\://www.uupsbu.org/rsvpmaker/postcards-from-the-fu
 ture-a-womans-guide-to-financially-ever-after-2017-07-24/
SUMMARY:Postcards from the Future:  A woman’s guide to financially e
 ver after
DESCRIPTION:Event info\: https\://www.uupsbu.org/rsvpmaker/postcards-f
 rom-the-future-a-womans-guide-to-financially-ever-after-2017-07-24/
END:VEVENT
END:VCALENDAR