BEGIN:VCALENDAR
VERSION:2.0
CALSCALE:GREGORIAN
PRODID:-//WordPress//RSVPMaker//EN
METHOD:REQUEST
BEGIN:VEVENT
DTSTAMP:20260425T185824Z
UID:89F0FD5C927D466D6EC9A21B9AC34FFA@rsvpmaker.com
SEQUENCE:0
STATUS:CONFIRMED
DTSTART:20151117T170000Z
DTEND:20151117T180000Z
LOCATION:See\: https\://www.uupsbu.org/rsvpmaker/pre-retirement-worksh
 op-2015-11-17/
SUMMARY:Pre-Retirement Workshop
DESCRIPTION:Event info\: https\://www.uupsbu.org/rsvpmaker/pre-retirem
 ent-workshop-2015-11-17/
END:VEVENT
END:VCALENDAR