BEGIN:VCALENDAR
VERSION:2.0
CALSCALE:GREGORIAN
PRODID:-//WordPress//RSVPMaker//EN
METHOD:REQUEST
BEGIN:VEVENT
DTSTAMP:20260425T005229Z
UID:7750CA3559E5B8E1F44210283368FC16@rsvpmaker.com
SEQUENCE:0
STATUS:CONFIRMED
DTSTART:20161024T160000Z
DTEND:20161024T170000Z
LOCATION:See\: https\://www.uupsbu.org/rsvpmaker/pre-retirement-worksh
 op-2016-10-24/
SUMMARY:Pre-Retirement Workshop
DESCRIPTION:Event info\: https\://www.uupsbu.org/rsvpmaker/pre-retirem
 ent-workshop-2016-10-24/
END:VEVENT
END:VCALENDAR