BEGIN:VCALENDAR
VERSION:2.0
CALSCALE:GREGORIAN
PRODID:-//WordPress//RSVPMaker//EN
METHOD:REQUEST
BEGIN:VEVENT
DTSTAMP:20260424T213710Z
UID:9FE8593A8A330607D76796B35C64C600@rsvpmaker.com
SEQUENCE:0
STATUS:CONFIRMED
DTSTART:20161221T170000Z
DTEND:20161221T180000Z
LOCATION:See\: https\://www.uupsbu.org/rsvpmaker/pre-retirement-worksh
 op-2016-12-21/
SUMMARY:Pre-Retirement Workshop
DESCRIPTION:Event info\: https\://www.uupsbu.org/rsvpmaker/pre-retirem
 ent-workshop-2016-12-21/
END:VEVENT
END:VCALENDAR